BEGIN:VCALENDAR
VERSION:2.0
PRODID:-//hacksw/handcal//NONSGML v1.0//EN
BEGIN:VEVENT
SUMMARY:TAE Fontainebleau 30 et 31 Mai 2026
UID:2e23aa2b-23b9-4082-a9e1-eb143bd74694
DTSTART:20260529T220000Z
DTEND:20260531T220000Z
LOCATION:Localisation   
CATEGORIES:Sportif
STATUS:
DESCRIPTION:<p style="text-align:center;"><span
 style="font-size:20px;">Compagnie d'Arc de
 Fontainebleau-Avon</span></p>
 
 <p style="text-align:center;"><span
 style="font-size:16px;">TAE distances Nationales et
 Internationales<br>
 Support CD77 TAE N<br>
 Selectif pour le
 Championnat de France</span></p>
URL;VALUE=URI:https://www.balory-arc.fr/evenements/2026/05/30/tae-fontainebleau-30-et-31-mai-2026-2444703
END:VEVENT
END:VCALENDAR
